BEGIN:VCALENDAR
VERSION:2.0
PRODID:-//Asociación Serranía de Guadalajara - ECPv6.15.13//NONSGML v1.0//EN
CALSCALE:GREGORIAN
METHOD:PUBLISH
X-ORIGINAL-URL:https://serraniadeguadalajara.com
X-WR-CALDESC:Eventos para Asociación Serranía de Guadalajara
REFRESH-INTERVAL;VALUE=DURATION:PT1H
X-Robots-Tag:noindex
X-PUBLISHED-TTL:PT1H
BEGIN:VTIMEZONE
TZID:Europe/Helsinki
BEGIN:DAYLIGHT
TZOFFSETFROM:+0200
TZOFFSETTO:+0300
TZNAME:EEST
DTSTART:20170326T010000
END:DAYLIGHT
BEGIN:STANDARD
TZOFFSETFROM:+0300
TZOFFSETTO:+0200
TZNAME:EET
DTSTART:20171029T010000
END:STANDARD
BEGIN:DAYLIGHT
TZOFFSETFROM:+0200
TZOFFSETTO:+0300
TZNAME:EEST
DTSTART:20180325T010000
END:DAYLIGHT
BEGIN:STANDARD
TZOFFSETFROM:+0300
TZOFFSETTO:+0200
TZNAME:EET
DTSTART:20181028T010000
END:STANDARD
BEGIN:DAYLIGHT
TZOFFSETFROM:+0200
TZOFFSETTO:+0300
TZNAME:EEST
DTSTART:20190331T010000
END:DAYLIGHT
BEGIN:STANDARD
TZOFFSETFROM:+0300
TZOFFSETTO:+0200
TZNAME:EET
DTSTART:20191027T010000
END:STANDARD
BEGIN:DAYLIGHT
TZOFFSETFROM:+0200
TZOFFSETTO:+0300
TZNAME:EEST
DTSTART:20200329T010000
END:DAYLIGHT
BEGIN:STANDARD
TZOFFSETFROM:+0300
TZOFFSETTO:+0200
TZNAME:EET
DTSTART:20201025T010000
END:STANDARD
END:VTIMEZONE
BEGIN:VEVENT
DTSTART;TZID=Europe/Helsinki:20190608T110000
DTEND;TZID=Europe/Helsinki:20190608T130000
DTSTAMP:20260423T020117
CREATED:20190606T122045Z
LAST-MODIFIED:20190606T122045Z
UID:8345-1559991600-1559998800@serraniadeguadalajara.com
SUMMARY:Mesa redonda 'Mastines y excursionistas\, conviviendo en la Sierra'
DESCRIPTION:El próximo sábado día 8 de junio se celebrará en Majaelrayo una mesa redonda que organiza la Asociación Serranía de Guadalajara integrada en las actividades de su XI Ciclo de primavera\, con este tema\, interesante\, de actualidad y ocasionalmente polémico. \nEn los últimos meses se ha evidenciado la problemática que supone a veces la presencia en nuestros montes de lobos que producen importantes daños en la cabaña ganadera\, la necesidad de contar con perros guardianes\, habitualmente mastines\, para defender a los rebaños y la afluencia\, cada vez más numerosa\, de excursionistas que transitan por las rutas de nuestro Parque Natural de la Sierra Norte de Guadalajara. La prensa y las redes sociales nos informan esporádicamente de los daños a las reses y de los sobresaltos que padecen los senderistas o cicloturistas\, habitual y afortunadamente casi siempre sin consecuencias graves. \n\nPor este motivo se ha convocado una mesa redonda en la que participarán\, moderados por los periodistas Raúl Conde y Raquel Gamo\, diversos expertos dando voz a los distintos colectivos afectados. Por parte de la Junta de Comunidades y el Parque Natural participará José Carlos Moratilla\, por parte de los senderistas Víctor Pascual\, por parte de los ganaderos Juan Arenas y por parte de los cazadores expondrá su punto de vista Francisco Iñigo. \nEl acto se celebrará en el Salón de Actos del Ayuntamiento de Majaelrayo a las once de la mañana y ha despertado amplio interés en la zona y en los diversos colectivos implicados; se espera se pueda llegar a conclusiones que facilítenla convivencia y el uso y disfrute de todos los recursos que nos ofrece nuestra Sierra Norte.
URL:https://serraniadeguadalajara.com/evento/mesa-redonda-mastines-y-excursionistas-conviviendo-en-la-sierra/
LOCATION:Majaelrayo
END:VEVENT
BEGIN:VEVENT
DTSTART;TZID=Europe/Helsinki:20181124T103000
DTEND;TZID=Europe/Helsinki:20181125T150000
DTSTAMP:20260423T020117
CREATED:20181106T134152Z
LAST-MODIFIED:20181106T134152Z
UID:8281-1543055400-1543158000@serraniadeguadalajara.com
SUMMARY:I Festival de Cine documental Arquitectura Negra
DESCRIPTION:En Campillo de Ranas\, \npromocionando \nnuestra arquitectura
URL:https://serraniadeguadalajara.com/evento/i-festival-de-cine-documental-arquitectura-negra/
LOCATION:Guadalajara
END:VEVENT
BEGIN:VEVENT
DTSTART;TZID=Europe/Helsinki:20181113T090000
DTEND;TZID=Europe/Helsinki:20181113T140000
DTSTAMP:20260423T020117
CREATED:20181106T135234Z
LAST-MODIFIED:20181106T135234Z
UID:8286-1542099600-1542117600@serraniadeguadalajara.com
SUMMARY:Jornadas: Rebaños\, mastines y usos compatibles
DESCRIPTION:Los mastines son una ayuda \nen la sierra. Y un problema ? \nCentro Cultural Ibercaja ahttps://www.wwf.es/nuestro_trabajo_/especies_y_habitats/lobo_iberico/jornadas_mastines_guadalajara/
URL:https://serraniadeguadalajara.com/evento/jornadas-rebanos-mastines-y-usos-compatibles/
LOCATION:Guadalajara
END:VEVENT
BEGIN:VEVENT
DTSTART;TZID=Europe/Helsinki:20181027T110000
DTEND;TZID=Europe/Helsinki:20181027T190000
DTSTAMP:20260423T020117
CREATED:20181016T115843Z
LAST-MODIFIED:20181016T115843Z
UID:8250-1540638000-1540666800@serraniadeguadalajara.com
SUMMARY:VI Toma castañas: Zarzuela de Galve - Valverde
DESCRIPTION:Castañas\, barbacoa\, fragua\, horno… \nFabes con setas \nMúsica tradicional… \nhttp://www.viajandoporlospueblosnegros.org/blog/Posts/show/vi-toma-castanas-2018-425
URL:https://serraniadeguadalajara.com/evento/vi-toma-castanas-zarzuela-de-galve-valverde/
LOCATION:Guadalajara
END:VEVENT
BEGIN:VEVENT
DTSTART;VALUE=DATE:20181020
DTEND;VALUE=DATE:20181021
DTSTAMP:20260423T020117
CREATED:20181010T103032Z
LAST-MODIFIED:20181010T103032Z
UID:8241-1539993600-1540079999@serraniadeguadalajara.com
SUMMARY:XI Día de la Sierra
DESCRIPTION:
URL:https://serraniadeguadalajara.com/evento/xi-dia-de-la-sierra/
LOCATION:Tamajón\, Guadajara\, España
CATEGORIES:Asociacion Serrania de Guadalajara
ATTACH;FMTTYPE=image/jpeg:https://serraniadeguadalajara.com/wp-content/uploads/2018/10/XI-DIA-DE-LA-SIERRA-page-001.jpg
ORGANIZER;CN="Asociaci%C3%B3n Sierra Norte de Guadalajara":MAILTO:cortossierranortegu@gmail.com
END:VEVENT
BEGIN:VEVENT
DTSTART;VALUE=DATE:20180818
DTEND;VALUE=DATE:20180820
DTSTAMP:20260423T020117
CREATED:20180726T202720Z
LAST-MODIFIED:20180726T202720Z
UID:8231-1534550400-1534723199@serraniadeguadalajara.com
SUMMARY:Fiestas y danzas en Galve
DESCRIPTION:En honor de la Virgen \ndel Pinar con la \nactuación de los danzantes \nhttp://henaresaldia.com/la-tradicion-las-danzas-galve-sorbe-ano-mas-fiel-cita/
URL:https://serraniadeguadalajara.com/evento/fiestas-y-danzas-en-galve/
LOCATION:Guadalajara
END:VEVENT
BEGIN:VEVENT
DTSTART;VALUE=DATE:20180811
DTEND;VALUE=DATE:20180812
DTSTAMP:20260423T020117
CREATED:20180726T201642Z
LAST-MODIFIED:20180726T201642Z
UID:8228-1533945600-1534031999@serraniadeguadalajara.com
SUMMARY:Danzantes de La Huerce
DESCRIPTION:Fiestas en honor de San Sebastián \nen La Huerce
URL:https://serraniadeguadalajara.com/evento/danzantes-de-la-huerce/
LOCATION:Guadalajara
END:VEVENT
BEGIN:VEVENT
DTSTART;TZID=Europe/Helsinki:20180810T200000
DTEND;TZID=Europe/Helsinki:20180817T200000
DTSTAMP:20260423T020117
CREATED:20180807T114301Z
LAST-MODIFIED:20180807T114301Z
UID:8235-1533931200-1534536000@serraniadeguadalajara.com
SUMMARY:Tamajón - Semana Cultural
DESCRIPTION:
URL:https://serraniadeguadalajara.com/evento/tamajon-semana-cultural/
LOCATION:Guadalajara
END:VEVENT
BEGIN:VEVENT
DTSTART;VALUE=DATE:20180805
DTEND;VALUE=DATE:20180806
DTSTAMP:20260423T020117
CREATED:20180711T115731Z
LAST-MODIFIED:20180711T115731Z
UID:8183-1533427200-1533513599@serraniadeguadalajara.com
SUMMARY:V Encuentro mtb barrankeros en Condemios
DESCRIPTION:100 valientes para subir a Mojón Cimero \nhttps://www.facebook.com/events/120564712155232/
URL:https://serraniadeguadalajara.com/evento/v-encuentro-mtb-barrankeros-en-condemios/
LOCATION:Guadalajara
END:VEVENT
BEGIN:VEVENT
DTSTART;TZID=Europe/Helsinki:20180804T200000
DTEND;TZID=Europe/Helsinki:20180804T230000
DTSTAMP:20260423T020117
CREATED:20180719T174517Z
LAST-MODIFIED:20180719T174517Z
UID:8220-1533412800-1533423600@serraniadeguadalajara.com
SUMMARY:II Centenario del Villazgo de Retiendas
DESCRIPTION:Del 28 de Julio al 4 de Agosto  \nRetiendas celebra el  II Centenario \nde su independencia y derecho \nde villazgo. \nDía 4 de Agosto: Fiesta de la Independencia \nhttps://blog.laveredadepuebla.com/2018/07/18/retiendas-celebra-el-bicentenario-de-su-independencia/
URL:https://serraniadeguadalajara.com/evento/ii-centenario-del-villazgo-de-retiendas-3/
LOCATION:Guadalajara
END:VEVENT
BEGIN:VEVENT
DTSTART;TZID=Europe/Helsinki:20180803T200000
DTEND;TZID=Europe/Helsinki:20180803T230000
DTSTAMP:20260423T020117
CREATED:20180719T174201Z
LAST-MODIFIED:20180719T174627Z
UID:8217-1533326400-1533337200@serraniadeguadalajara.com
SUMMARY:II Centenario del Villazgo de Retiendas
DESCRIPTION:Del 28 de Julio al 4 de Agosto \nRetiendas celebra el  II Centenario \nde su independencia y derecho \nde villazgo. \nDía 3 de Agosto: Marcha: Amojonamiento Valdesotos \nhttps://blog.laveredadepuebla.com/2018/07/18/retiendas-celebra-el-bicentenario-de-su-independencia/
URL:https://serraniadeguadalajara.com/evento/ii-centenario-del-villazgo-de-retiendas-2/
LOCATION:Guadalajara
END:VEVENT
BEGIN:VEVENT
DTSTART;TZID=Europe/Helsinki:20180728T200000
DTEND;TZID=Europe/Helsinki:20180728T230000
DTSTAMP:20260423T020117
CREATED:20180719T173648Z
LAST-MODIFIED:20180719T173648Z
UID:8214-1532808000-1532818800@serraniadeguadalajara.com
SUMMARY:II Centenario del Villazgo de Retiendas
DESCRIPTION:Del 28 de Julio al 4 de Agosto \nRetiendas celebra el  II Centenario \nde su independencia y derecho \nde villazgo. \nDía 28 de Julio: Ruta con la luna llena \nhttps://blog.laveredadepuebla.com/2018/07/18/retiendas-celebra-el-bicentenario-de-su-independencia/
URL:https://serraniadeguadalajara.com/evento/ii-centenario-del-villazgo-de-retiendas/
LOCATION:Guadalajara
END:VEVENT
BEGIN:VEVENT
DTSTART;TZID=Europe/Helsinki:20180728T163000
DTEND;TZID=Europe/Helsinki:20180728T230000
DTSTAMP:20260423T020117
CREATED:20180719T175521Z
LAST-MODIFIED:20180719T175521Z
UID:8222-1532795400-1532818800@serraniadeguadalajara.com
SUMMARY:XXV Triatlon de Pálmaces
DESCRIPTION:Ya un clásico acontecimiento \ndeportivo \nde nuestra Sierra. \nhttp://www.triatlonpalmaces.es/
URL:https://serraniadeguadalajara.com/evento/xxv-triatlon-de-palmaces/
LOCATION:Guadalajara
END:VEVENT
BEGIN:VEVENT
DTSTART;TZID=Europe/Helsinki:20180714T080000
DTEND;TZID=Europe/Helsinki:20180714T210000
DTSTAMP:20260423T020117
CREATED:20180515T191950Z
LAST-MODIFIED:20180711T112240Z
UID:8152-1531555200-1531602000@serraniadeguadalajara.com
SUMMARY:Presentación del Vocabulario Serrano en Majaelrayo
DESCRIPTION:Nuestro Vocabulario \nSerrano se presenta \nen Majaelrayo\, en los \nlocales del Ayuntamiento
URL:https://serraniadeguadalajara.com/evento/presentacion-del-vocabulario-serrano-en-majaelrayo/
LOCATION:Guadalajara
END:VEVENT
BEGIN:VEVENT
DTSTART;TZID=Europe/Helsinki:20180713T000000
DTEND;TZID=Europe/Helsinki:20180715T210000
DTSTAMP:20260423T020117
CREATED:20180711T112856Z
LAST-MODIFIED:20180711T113848Z
UID:8178-1531440000-1531688400@serraniadeguadalajara.com
SUMMARY:Exposición Vocabulario Serrano
DESCRIPTION:La exposición con las imágenes de nuestro Vocabulario \nPopular Serrano permanecerá abierta en el \nSalón el Ayuntamiento de Majaelrayo los días 13\, 14 y 15 de Julio de 12 a 14 h y de 19 a 21 h
URL:https://serraniadeguadalajara.com/evento/exposicion-vocabulario-serrano/
LOCATION:Guadalajara
END:VEVENT
BEGIN:VEVENT
DTSTART;TZID=Europe/Helsinki:20180629T213000
DTEND;TZID=Europe/Helsinki:20180701T173000
DTSTAMP:20260423T020117
CREATED:20180626T191459Z
LAST-MODIFIED:20180626T191459Z
UID:8172-1530307800-1530466200@serraniadeguadalajara.com
SUMMARY:Fiestas de San Pedro en Robleluengo
DESCRIPTION:Bolos\, meriendas populares\,  \ndulzaineros Kalabera \nRondalla del valle del Ocejón…
URL:https://serraniadeguadalajara.com/evento/fiestas-de-san-pedro-en-robleluengo/
LOCATION:Guadalajara
END:VEVENT
BEGIN:VEVENT
DTSTART;TZID=Europe/Helsinki:20180623T103000
DTEND;TZID=Europe/Helsinki:20180623T150000
DTSTAMP:20260423T020117
CREATED:20180515T191640Z
LAST-MODIFIED:20180515T191640Z
UID:8149-1529749800-1529766000@serraniadeguadalajara.com
SUMMARY:X Ruta de la Jara
DESCRIPTION:Desde Santa Coloma  \ny alrededor de la \nlaguna de Somolinos\, \nEn el Ciclo de Primavera \nde la Asociación
URL:https://serraniadeguadalajara.com/evento/x-ruta-de-la-jara/
LOCATION:Guadalajara
END:VEVENT
BEGIN:VEVENT
DTSTART;TZID=Europe/Helsinki:20180621T193000
DTEND;TZID=Europe/Helsinki:20180621T203000
DTSTAMP:20260423T020117
CREATED:20180618T095212Z
LAST-MODIFIED:20180618T095212Z
UID:8165-1529609400-1529613000@serraniadeguadalajara.com
SUMMARY:Presentación “Las danzas de la Octava del Corpus de Valverde de los Arroyos”
DESCRIPTION:“Las danzas de la Octava del Corpus de Valverde de los Arroyos”\, de Emilio Robledo Monasterio y José Mª Alonso Gordo.
URL:https://serraniadeguadalajara.com/evento/presentacion-las-danzas-de-la-octava-del-corpus-de-valverde-de-los-arroyos/
LOCATION:Salón de Actos de la Junta de Comunidades de Castilla La Mancha\, C/ Enrique Benito Chavarri\, 2\, Guadalajara\, España
ATTACH;FMTTYPE=image/jpeg:https://serraniadeguadalajara.com/wp-content/uploads/2018/06/presentacionlasdanzasdelaoctava.jpg
END:VEVENT
BEGIN:VEVENT
DTSTART;TZID=Europe/Helsinki:20180621T090000
DTEND;TZID=Europe/Helsinki:20180629T190000
DTSTAMP:20260423T020117
CREATED:20180618T095432Z
LAST-MODIFIED:20180618T095432Z
UID:8169-1529571600-1530298800@serraniadeguadalajara.com
SUMMARY:Exposición “Las danzas de la Octava del Corpus de Valverde de los Arroyos”
DESCRIPTION:
URL:https://serraniadeguadalajara.com/evento/exposicion-las-danzas-de-la-octava-del-corpus-de-valverde-de-los-arroyos/
LOCATION:Salón de Actos de la Junta de Comunidades de Castilla La Mancha\, C/ Enrique Benito Chavarri\, 2\, Guadalajara\, España
ATTACH;FMTTYPE=image/jpeg:https://serraniadeguadalajara.com/wp-content/uploads/2018/06/presentacionlasdanzasdelaoctava.jpg
END:VEVENT
BEGIN:VEVENT
DTSTART;VALUE=DATE:20180616
DTEND;VALUE=DATE:20180617
DTSTAMP:20260423T020117
CREATED:20180604T174419Z
LAST-MODIFIED:20180604T174419Z
UID:8161-1529107200-1529193599@serraniadeguadalajara.com
SUMMARY:Feria del ganado en Hiendelaencina
DESCRIPTION:Exposición de ganado autóctono\, \nvisita al museo de la minería \ny a las minas \ncomida popular… \nhttps://www.clm24.es/articulo/guadalajara/hiendelaencina-celebrara-sabado-16-junio-xxxiv-feria-ganado/20180604174424206871.html \n 
URL:https://serraniadeguadalajara.com/evento/feria-del-ganado-en-hiendelaencina/
LOCATION:Guadalajara
END:VEVENT
BEGIN:VEVENT
DTSTART;VALUE=DATE:20180610
DTEND;VALUE=DATE:20180611
DTSTAMP:20260423T020117
CREATED:20180531T125047Z
LAST-MODIFIED:20180531T125047Z
UID:8157-1528588800-1528675199@serraniadeguadalajara.com
SUMMARY:Octava del Corpus en Valverde
DESCRIPTION:Llega la Octava con sus rondas\, \ndanzas\, rosquillas \nAuto sacramental \ny presentación del \nLibro de las danzas
URL:https://serraniadeguadalajara.com/evento/octava-del-corpus-en-valverde/
LOCATION:Guadalajara
END:VEVENT
BEGIN:VEVENT
DTSTART;TZID=Europe/Helsinki:20180602T170000
DTEND;TZID=Europe/Helsinki:20180602T230000
DTSTAMP:20260423T020117
CREATED:20180418T165808Z
LAST-MODIFIED:20180418T165808Z
UID:8109-1527958800-1527980400@serraniadeguadalajara.com
SUMMARY:Media Maratón a Ocejón
DESCRIPTION:21 km desde Robleluengo \na Ocejón y vuelta. \n! Espectacular¡ \nhttp://www.carrerasguadalajara.com/carrera/xviii-medio-maraton-del-ocejon/
URL:https://serraniadeguadalajara.com/evento/media-maraton-a-ocejon/
LOCATION:Guadalajara
END:VEVENT
BEGIN:VEVENT
DTSTART;TZID=Europe/Helsinki:20180602T080000
DTEND;TZID=Europe/Helsinki:20180602T170000
DTSTAMP:20260423T020117
CREATED:20180507T164150Z
LAST-MODIFIED:20180507T164150Z
UID:8130-1527926400-1527958800@serraniadeguadalajara.com
SUMMARY:Arban-Folk
DESCRIPTION:http://www.arbancon.es/c/document_library/get_file?uuid=e7ce8e83-9ceb-403c-b1b3-6cfb609ed1ee&groupId=252902 \nInscripción de grupos hasta \nel 20 de mayo. \nActuaciones en las XVII Jornada del \nPrivilegio de Villa. \nFolk todo el día.
URL:https://serraniadeguadalajara.com/evento/arban-folk/
LOCATION:Guadalajara
END:VEVENT
BEGIN:VEVENT
DTSTART;VALUE=DATE:20180531
DTEND;VALUE=DATE:20180604
DTSTAMP:20260423T020117
CREATED:20180418T170745Z
LAST-MODIFIED:20180418T170745Z
UID:8113-1527724800-1528070399@serraniadeguadalajara.com
SUMMARY:Myau\, circo en Albendiego
DESCRIPTION:Myau en Albendiego \nRepública independiente \ndel Circo Rural \nhttp://myau.es/
URL:https://serraniadeguadalajara.com/evento/myau-circo-en-albendiego/
LOCATION:Guadalajara
END:VEVENT
BEGIN:VEVENT
DTSTART;TZID=Europe/Helsinki:20180520T110000
DTEND;TZID=Europe/Helsinki:20180520T140000
DTSTAMP:20260423T020118
CREATED:20180515T190716Z
LAST-MODIFIED:20180515T190716Z
UID:8144-1526814000-1526824800@serraniadeguadalajara.com
SUMMARY:Conferencia "Los despoblados en la Sierra de Atienza"
DESCRIPTION:Dentro del Ciclo de Primavera  \nde la Asociación \nSerranía de Guadalajara. \nCampillo de Ranas
URL:https://serraniadeguadalajara.com/evento/conferencia-los-despoblados-en-la-sierra-de-atienza/
LOCATION:Guadalajara
END:VEVENT
BEGIN:VEVENT
DTSTART;VALUE=DATE:20180520
DTEND;VALUE=DATE:20180521
DTSTAMP:20260423T020118
CREATED:20180507T163527Z
LAST-MODIFIED:20180507T163527Z
UID:8126-1526774400-1526860799@serraniadeguadalajara.com
SUMMARY:Caballada de Atienza
DESCRIPTION:El galope de la memoria de Castilla… \nLas siete tortillas… \n«Hermanos\, a pie»… \n«Diez celemines… y buen provecho» \nPorrón de vino y… «que lleguemos al año que viene» \nhttp://atienza.biz/fiestas_ver/la-caballada/ver/6 \n 
URL:https://serraniadeguadalajara.com/evento/caballada-de-atienza/
LOCATION:Guadalajara
END:VEVENT
BEGIN:VEVENT
DTSTART;TZID=Europe/Helsinki:20180519T110000
DTEND;TZID=Europe/Helsinki:20180519T200000
DTSTAMP:20260423T020118
CREATED:20180418T164219Z
LAST-MODIFIED:20180418T164219Z
UID:8106-1526727600-1526760000@serraniadeguadalajara.com
SUMMARY:Arte en la plaza\, Campillo
DESCRIPTION:Música   \nEspectáculos \nArtesanía \nTalleres… \nhttps://www.facebook.com/viajandoporlospueblosnegros/photos/a.306936409395809.69093.303318586424258/1698846876871415/?type=3&theater
URL:https://serraniadeguadalajara.com/evento/arte-en-la-plaza-campillo/
LOCATION:Guadalajara
END:VEVENT
BEGIN:VEVENT
DTSTART;TZID=Europe/Helsinki:20180512T000000
DTEND;TZID=Europe/Helsinki:20180512T140000
DTSTAMP:20260423T020118
CREATED:20180508T112738Z
LAST-MODIFIED:20180508T112738Z
UID:8133-1526083200-1526133600@serraniadeguadalajara.com
SUMMARY:La Escuela de Folklore en Valdepeñas de la Sierra
DESCRIPTION:Música y bailes tradicionales en la  \nPlaza Mayor de Valdepeñas de \nla (nuestra) Sierra \nhttp://www.dguadalajara.es/web/guest
URL:https://serraniadeguadalajara.com/evento/la-escuela-de-folklore-en-valdepenas-de-la-sierra/
LOCATION:Guadalajara
END:VEVENT
BEGIN:VEVENT
DTSTART;TZID=Europe/Helsinki:20180428T113000
DTEND;TZID=Europe/Helsinki:20180429T190000
DTSTAMP:20260423T020118
CREATED:20180427T205021Z
LAST-MODIFIED:20180427T205021Z
UID:8121-1524915000-1525028400@serraniadeguadalajara.com
SUMMARY:XX Mercado Medieval de Tamajón
DESCRIPTION:Teatro de calle\, títeres\, \naves rapaces\, exposiciones \ncombates\, magia \nmúsica folk\, escudos \npicota…
URL:https://serraniadeguadalajara.com/evento/xx-mercado-medieval-de-tamajon/
LOCATION:Guadalajara
END:VEVENT
BEGIN:VEVENT
DTSTART;TZID=Europe/Helsinki:20180424T070000
DTEND;TZID=Europe/Helsinki:20180424T203000
DTSTAMP:20260423T020118
CREATED:20180420T153617Z
LAST-MODIFIED:20180420T153617Z
UID:8116-1524553200-1524601800@serraniadeguadalajara.com
SUMMARY:Retos medioambientales... en el Parque Natural Sierra Norte
DESCRIPTION:Conferencia en el \nCentro Social Ibercaja \nMartes 24 de Abril\, 7 tarde \nhttps://obrasocial.ibercaja.es/medioambiente/guadalajara/retos-medioambientales-el-parque-natural-de-la-sierra-norte-de-guadalajara \n 
URL:https://serraniadeguadalajara.com/evento/retos-medioambientales-en-el-parque-natural-sierra-norte/
LOCATION:Guadalajara
END:VEVENT
END:VCALENDAR