BEGIN:VCALENDAR
VERSION:2.0
PRODID:-//Asociación Serranía de Guadalajara - ECPv6.15.13//NONSGML v1.0//EN
CALSCALE:GREGORIAN
METHOD:PUBLISH
X-WR-CALNAME:Asociación Serranía de Guadalajara
X-ORIGINAL-URL:https://serraniadeguadalajara.com
X-WR-CALDESC:Eventos para Asociación Serranía de Guadalajara
REFRESH-INTERVAL;VALUE=DURATION:PT1H
X-Robots-Tag:noindex
X-PUBLISHED-TTL:PT1H
BEGIN:VTIMEZONE
TZID:Europe/Helsinki
BEGIN:DAYLIGHT
TZOFFSETFROM:+0200
TZOFFSETTO:+0300
TZNAME:EEST
DTSTART:20170326T010000
END:DAYLIGHT
BEGIN:STANDARD
TZOFFSETFROM:+0300
TZOFFSETTO:+0200
TZNAME:EET
DTSTART:20171029T010000
END:STANDARD
BEGIN:DAYLIGHT
TZOFFSETFROM:+0200
TZOFFSETTO:+0300
TZNAME:EEST
DTSTART:20180325T010000
END:DAYLIGHT
BEGIN:STANDARD
TZOFFSETFROM:+0300
TZOFFSETTO:+0200
TZNAME:EET
DTSTART:20181028T010000
END:STANDARD
BEGIN:DAYLIGHT
TZOFFSETFROM:+0200
TZOFFSETTO:+0300
TZNAME:EEST
DTSTART:20190331T010000
END:DAYLIGHT
BEGIN:STANDARD
TZOFFSETFROM:+0300
TZOFFSETTO:+0200
TZNAME:EET
DTSTART:20191027T010000
END:STANDARD
END:VTIMEZONE
BEGIN:VEVENT
DTSTART;TZID=Europe/Helsinki:20180520T110000
DTEND;TZID=Europe/Helsinki:20180520T140000
DTSTAMP:20260423T072510
CREATED:20180515T190716Z
LAST-MODIFIED:20180515T190716Z
UID:8144-1526814000-1526824800@serraniadeguadalajara.com
SUMMARY:Conferencia "Los despoblados en la Sierra de Atienza"
DESCRIPTION:Dentro del Ciclo de Primavera  \nde la Asociación \nSerranía de Guadalajara. \nCampillo de Ranas
URL:https://serraniadeguadalajara.com/evento/conferencia-los-despoblados-en-la-sierra-de-atienza/
END:VEVENT
BEGIN:VEVENT
DTSTART;VALUE=DATE:20180520
DTEND;VALUE=DATE:20180521
DTSTAMP:20260423T072510
CREATED:20180507T163527Z
LAST-MODIFIED:20180507T163527Z
UID:8126-1526774400-1526860799@serraniadeguadalajara.com
SUMMARY:Caballada de Atienza
DESCRIPTION:El galope de la memoria de Castilla… \nLas siete tortillas… \n«Hermanos\, a pie»… \n«Diez celemines… y buen provecho» \nPorrón de vino y… «que lleguemos al año que viene» \nhttp://atienza.biz/fiestas_ver/la-caballada/ver/6 \n 
URL:https://serraniadeguadalajara.com/evento/caballada-de-atienza/
END:VEVENT
BEGIN:VEVENT
DTSTART;TZID=Europe/Helsinki:20180519T110000
DTEND;TZID=Europe/Helsinki:20180519T200000
DTSTAMP:20260423T072510
CREATED:20180418T164219Z
LAST-MODIFIED:20180418T164219Z
UID:8106-1526727600-1526760000@serraniadeguadalajara.com
SUMMARY:Arte en la plaza\, Campillo
DESCRIPTION:Música   \nEspectáculos \nArtesanía \nTalleres… \nhttps://www.facebook.com/viajandoporlospueblosnegros/photos/a.306936409395809.69093.303318586424258/1698846876871415/?type=3&theater
URL:https://serraniadeguadalajara.com/evento/arte-en-la-plaza-campillo/
END:VEVENT
BEGIN:VEVENT
DTSTART;TZID=Europe/Helsinki:20180512T000000
DTEND;TZID=Europe/Helsinki:20180512T140000
DTSTAMP:20260423T072510
CREATED:20180508T112738Z
LAST-MODIFIED:20180508T112738Z
UID:8133-1526083200-1526133600@serraniadeguadalajara.com
SUMMARY:La Escuela de Folklore en Valdepeñas de la Sierra
DESCRIPTION:Música y bailes tradicionales en la  \nPlaza Mayor de Valdepeñas de \nla (nuestra) Sierra \nhttp://www.dguadalajara.es/web/guest
URL:https://serraniadeguadalajara.com/evento/la-escuela-de-folklore-en-valdepenas-de-la-sierra/
END:VEVENT
BEGIN:VEVENT
DTSTART;TZID=Europe/Helsinki:20180428T113000
DTEND;TZID=Europe/Helsinki:20180429T190000
DTSTAMP:20260423T072510
CREATED:20180427T205021Z
LAST-MODIFIED:20180427T205021Z
UID:8121-1524915000-1525028400@serraniadeguadalajara.com
SUMMARY:XX Mercado Medieval de Tamajón
DESCRIPTION:Teatro de calle\, títeres\, \naves rapaces\, exposiciones \ncombates\, magia \nmúsica folk\, escudos \npicota…
URL:https://serraniadeguadalajara.com/evento/xx-mercado-medieval-de-tamajon/
END:VEVENT
BEGIN:VEVENT
DTSTART;TZID=Europe/Helsinki:20180424T070000
DTEND;TZID=Europe/Helsinki:20180424T203000
DTSTAMP:20260423T072510
CREATED:20180420T153617Z
LAST-MODIFIED:20180420T153617Z
UID:8116-1524553200-1524601800@serraniadeguadalajara.com
SUMMARY:Retos medioambientales... en el Parque Natural Sierra Norte
DESCRIPTION:Conferencia en el \nCentro Social Ibercaja \nMartes 24 de Abril\, 7 tarde \nhttps://obrasocial.ibercaja.es/medioambiente/guadalajara/retos-medioambientales-el-parque-natural-de-la-sierra-norte-de-guadalajara \n 
URL:https://serraniadeguadalajara.com/evento/retos-medioambientales-en-el-parque-natural-sierra-norte/
END:VEVENT
BEGIN:VEVENT
DTSTART;TZID=Europe/Helsinki:20180420T173000
DTEND;TZID=Europe/Helsinki:20180422T183000
DTSTAMP:20260423T072510
CREATED:20180418T163359Z
LAST-MODIFIED:20180418T163359Z
UID:8103-1524245400-1524421800@serraniadeguadalajara.com
SUMMARY:Encuentro de Etnología
DESCRIPTION:Indumentaria\, recueros y trajinantes\,  \nritos y costumbres\, artesanía… \nDel 20 al 22 de Abril entre Guadalajara \ny Atienza \nhttp://www.patrimoniohistoricoclm.es/museo-de-guadalajara/actualidad/museo-de-guadalajara-encuentro-etnologia-guadalajara-etnologia/ \n 
URL:https://serraniadeguadalajara.com/evento/encuentro-de-etnologia/
END:VEVENT
BEGIN:VEVENT
DTSTART;TZID=Europe/Helsinki:20180330T203000
DTEND;TZID=Europe/Helsinki:20180330T220000
DTSTAMP:20260423T072510
CREATED:20180315T110511Z
LAST-MODIFIED:20180315T110511Z
UID:8091-1522441800-1522447200@serraniadeguadalajara.com
SUMMARY:Procesión del Entierro\, "los armaos" de Sigüenza
DESCRIPTION:Desde la Catedral a la ermita \nde Santa Bárbara. \nSigüenza y su Semana Santa \nmerecen una visita.
URL:https://serraniadeguadalajara.com/evento/procesion-del-entierro-los-armaos-de-siguenza/
END:VEVENT
BEGIN:VEVENT
DTSTART;TZID=Europe/Helsinki:20180330T000000
DTEND;TZID=Europe/Helsinki:20180330T150000
DTSTAMP:20260423T072510
CREATED:20180315T105404Z
LAST-MODIFIED:20180315T105404Z
UID:8084-1522368000-1522422000@serraniadeguadalajara.com
SUMMARY:Pasión Viviente de Hiendelaencina
DESCRIPTION:Sigue viva después  de 46 años \n¡No te la pierdas!
URL:https://serraniadeguadalajara.com/evento/pasion-viviente-de-hiendelaencina-2/
END:VEVENT
BEGIN:VEVENT
DTSTART;VALUE=DATE:20180329
DTEND;VALUE=DATE:20180402
DTSTAMP:20260423T072510
CREATED:20180315T111747Z
LAST-MODIFIED:20180315T111747Z
UID:8094-1522281600-1522627199@serraniadeguadalajara.com
SUMMARY:Semana Santa en la Sierra
DESCRIPTION:Tradición\, paisaje\, devoción\, \ngastronomía\, hospitalidad… \n!Toda la Sierra te espera¡
URL:https://serraniadeguadalajara.com/evento/semana-santa-en-la-sierra/
END:VEVENT
BEGIN:VEVENT
DTSTART;VALUE=DATE:20180317
DTEND;VALUE=DATE:20180318
DTSTAMP:20260423T072510
CREATED:20180315T105917Z
LAST-MODIFIED:20180315T105917Z
UID:8087-1521244800-1521331199@serraniadeguadalajara.com
SUMMARY:Fiesta del Olivo Milenario en Puebla de Valles
DESCRIPTION:Homenajeando desde 1994 a su \nOlivo Milenario de la Plaza \nhttps://blog.laveredadepuebla.com/2016/03/16/del-olivo-milenario-de-puebla-de-valles/ \n  \n 
URL:https://serraniadeguadalajara.com/evento/fiesta-del-olivo-milenario-en-puebla-de-valles-2/
END:VEVENT
BEGIN:VEVENT
DTSTART;TZID=Europe/Helsinki:20180210T040000
DTEND;TZID=Europe/Helsinki:20180210T190000
DTSTAMP:20260423T072510
CREATED:20180118T101231Z
LAST-MODIFIED:20180118T101231Z
UID:8001-1518235200-1518289200@serraniadeguadalajara.com
SUMMARY:Botargas y Mascaritas de Almiruete
DESCRIPTION:El Carnaval más auténtico y original de la \nSerranía de Guadalajara. \n10 de Febrero\, sábado  a partir \nde las 4 de la tarde.
URL:https://serraniadeguadalajara.com/evento/botargas-y-mascaritas-de-almiruete/
END:VEVENT
BEGIN:VEVENT
DTSTART;VALUE=DATE:20180204
DTEND;VALUE=DATE:20180205
DTSTAMP:20260423T072510
CREATED:20180110T185336Z
LAST-MODIFIED:20180110T185336Z
UID:7989-1517702400-1517788799@serraniadeguadalajara.com
SUMMARY:Fiesta de La Candelaria en Retiendas
DESCRIPTION:El pueblo de Retiendas \ncon su botarga al frente \nhomenajea a su patrona \nLa Candelaria
URL:https://serraniadeguadalajara.com/evento/fiesta-de-la-candelaria-en-retiendas/
END:VEVENT
BEGIN:VEVENT
DTSTART;VALUE=DATE:20180203
DTEND;VALUE=DATE:20180205
DTSTAMP:20260423T072510
CREATED:20180119T170413Z
LAST-MODIFIED:20180119T170635Z
UID:8005-1517616000-1517788799@serraniadeguadalajara.com
SUMMARY:Fiesta de las Águedas en Cogolludo
DESCRIPTION:Días 3 y 4 de Febrero \n(Foto: Henares al día)
URL:https://serraniadeguadalajara.com/evento/fiesta-de-las-aguedas-en-cogolludo/
END:VEVENT
BEGIN:VEVENT
DTSTART;TZID=Europe/Helsinki:20180128T000000
DTEND;TZID=Europe/Helsinki:20180128T140000
DTSTAMP:20260423T072510
CREATED:20180110T175707Z
LAST-MODIFIED:20180110T175707Z
UID:7986-1517097600-1517148000@serraniadeguadalajara.com
SUMMARY:Chinela de San Ildefonso en Valverde
DESCRIPTION:Valverde celebra a su patrón\, San Ildefonso con  \nla Chinela\, encendida la víspera por la noche \ny en la mañana con la procesión.
URL:https://serraniadeguadalajara.com/evento/chinela-de-san-ildefonso-en-valverde/
END:VEVENT
BEGIN:VEVENT
DTSTART;TZID=Europe/Helsinki:20180124T200000
DTEND;TZID=Europe/Helsinki:20180124T200000
DTSTAMP:20260423T072510
CREATED:20180118T100838Z
LAST-MODIFIED:20180118T100838Z
UID:7999-1516824000-1516824000@serraniadeguadalajara.com
SUMMARY:Entrega de Premios de la Asociación de la Prensa
DESCRIPTION:Entrega del Premio en la categoría «Cultura» a \nla Asociación Serranía de Guadalajara. \nMiércoles 24 a la 8 de la tarde\, \nCentro Cultural Ibercaja
URL:https://serraniadeguadalajara.com/evento/entrega-de-premios-de-la-asociacion-de-la-prensa/
END:VEVENT
BEGIN:VEVENT
DTSTART;TZID=Europe/Helsinki:20180121T180000
DTEND;TZID=Europe/Helsinki:20180121T200000
DTSTAMP:20260423T072510
CREATED:20180110T174400Z
LAST-MODIFIED:20180110T174400Z
UID:7983-1516557600-1516564800@serraniadeguadalajara.com
SUMMARY:Hogueras de San Vicente en Sigüenza
DESCRIPTION:No te pierdas las hogueras de la víspera  \nde San Vicente en la ciudad mitrada\, \nen recuerdo de la fecha en que se tomó la \nciudad por el obispo Bernardo de Agén.
URL:https://serraniadeguadalajara.com/evento/hogueras-de-san-vicente-en-siguenza/
END:VEVENT
END:VCALENDAR